BEGIN:VCALENDAR
VERSION:2.0
PRODID:-//CiviCRM//NONSGML CiviEvent iCal//EN
X-WR-TIMEZONE:America/Denver
METHOD:PUBLISH
BEGIN:VTIMEZONE
TZID:America/Denver
BEGIN:DAYLIGHT
TZOFFSETFROM:-0600
TZOFFSETTO:-0600
TZNAME:MDT
DTSTART:20260429T110000
END:DAYLIGHT
END:VTIMEZONE
BEGIN:VEVENT
UID:CiviCRM_EventID_1075_67401879c8b180a16480d9c205d73f9e@www.groundworksnm.org
SUMMARY:Lessons from Year 1: How America Responded to Trum
 p 2.0 and Philanthropy's Duty to Act (Funder Only 
 Programming)
X-ALT-DESC;FMTTYPE=text/html:<!DOCTYPE HTML PUBLIC
  "-//W3C//DTD HTML 3.2//EN"><html><body><h1>Lesson
 s from Year 1: How America Responded to Trump 2.0 
 and Philanthropy's Duty to Act</h1>\n \n <h2>Grant
 makers Concerned with Immigrants and Refugees (GCI
 R)</h2>\n \n <h2><strong>Funder Only Programming</
 strong></h2>\n \n <h4><strong>Wednesday\, April 29
 </strong></h4>\n \n <p><strong>11am - 12pm MT</str
 ong></p>\n \n <p>From the beginning of the second 
 Trump administration\, it was clear that its leade
 rs intended to overwhelm society by attacking comm
 unities\, democratic norms\, and the Constitution 
 with such velocity\, severity\, and regularity tha
 t it would be difficult for individuals and instit
 utions to register\, categorize\, and respond to e
 ach assault. <br />\n <br />\n In GCIR’s upcoming 
 report\, "Lessons for Year 1: How America Responde
 d to Trump 2.0 and Philanthropy's Duty to Act\," w
 e cut through the noise and articulate the primary
  themes that have animated the regime’s anti-immig
 rant agenda over the last year and – critically – 
 how communities and nonprofits have successfully p
 ushed back. We also share concrete recommendations
  on how philanthropic resources can be deployed to
  both mitigate community harm and undergird civil 
 society efforts.<br />\n <br />\n We invite you to
  join GCIR President Marissa Tirona in an armchair
  conversation with Kevin Douglas\, GCIR's Senior D
 irector of National Programs\, and Kathryn Snyder\
 , Esq.\, Director of Movement Partnerships with th
 e Women Donors Network\, who will reflect on the r
 ole philanthropy has played in the first year of T
 rump 2.0. In this discussion\, we’ll explore the r
 eport’s key takeaways and how funders have sought 
 to move in coordination to defend movement organiz
 ations and communities while also building toward 
 the future.</p>\n \n <p>Please register for this p
 rogram by 6 p.m. MT on Tuesday\, April 28.</p>\n \
 n <h1><a href="https://www.gcir.org/programs/lesso
 ns-year-1-how-america-responded-trump-20-and-phila
 nthropys-duty-act">REGISTER HERE </a></h1>\n \n <p
 > </p></body></html>
DESCRIPTION:Lessons from Year 1: How America Responded to Trum
 p 2.0 and Philanthropy's Duty to Act\n \n \n Grant
 makers Concerned with Immigrants and Refugees (GCI
 R)\n \n \n Funder Only Programming\n \n \n Wednesd
 ay\, April 29\n \n \n 11am - 12pm MT\n \n \n \n Fr
 om the beginning of the second Trump administratio
 n\, it was clear that its leaders intended to over
 whelm society by attacking communities\, democrati
 c norms\, and the Constitution with such velocity\
 , severity\, and regularity that it would be diffi
 cult for individuals and institutions to register\
 , categorize\, and respond to each assault. \n \n 
 \n \n In GCIR’s upcoming report\, "Lessons for Yea
 r 1: How America Responded to Trump 2.0 and Philan
 thropy's Duty to Act\," we cut through the noise a
 nd articulate the primary themes that have animate
 d the regime’s anti-immigrant agenda over the last
  year and – critically – how communities and nonpr
 ofits have successfully pushed back. We also share
  concrete recommendations on how philanthropic res
 ources can be deployed to both mitigate community 
 harm and undergird civil society efforts.\n \n \n 
 \n We invite you to join GCIR President Marissa Ti
 rona in an armchair conversation with Kevin Dougla
 s\, GCIR's Senior Director of National Programs\, 
 and Kathryn Snyder\, Esq.\, Director of Movement P
 artnerships with the Women Donors Network\, who wi
 ll reflect on the role philanthropy has played in 
 the first year of Trump 2.0. In this discussion\, 
 we’ll explore the report’s key takeaways and how f
 unders have sought to move in coordination to defe
 nd movement organizations and communities while al
 so building toward the future.\n \n \n \n Please r
 egister for this program by 6 p.m. MT on Tuesday\,
  April 28.\n \n \n \n REGISTER HERE  (https://www.
 gcir.org/programs/lessons-year-1-how-america-respo
 nded-trump-20-and-philanthropys-duty-act)\n \n \n 
  \n \n 
CATEGORIES:Partner Presentation
CALSCALE:GREGORIAN
DTSTAMP;TZID=America/Denver:20260429T110000
DTSTART;TZID=America/Denver:20260429T110000
DTEND;TZID=America/Denver:20260429T120000
URL:https://www.groundworksnm.org/civicrm/event/info?reset=1&id=1075
END:VEVENT
END:VCALENDAR
